BEGIN:VCALENDAR
VERSION:2.0
PRODID:-//Jungian Psychotherapists Association - ECPv6.15.17.1//NONSGML v1.0//EN
CALSCALE:GREGORIAN
METHOD:PUBLISH
X-ORIGINAL-URL:https://jpaseattle.org
X-WR-CALDESC:Events for Jungian Psychotherapists Association
REFRESH-INTERVAL;VALUE=DURATION:PT1H
X-Robots-Tag:noindex
X-PUBLISHED-TTL:PT1H
BEGIN:VTIMEZONE
TZID:America/Los_Angeles
BEGIN:DAYLIGHT
TZOFFSETFROM:-0800
TZOFFSETTO:-0700
TZNAME:PDT
DTSTART:20250309T100000
END:DAYLIGHT
BEGIN:STANDARD
TZOFFSETFROM:-0700
TZOFFSETTO:-0800
TZNAME:PST
DTSTART:20251102T090000
END:STANDARD
BEGIN:DAYLIGHT
TZOFFSETFROM:-0800
TZOFFSETTO:-0700
TZNAME:PDT
DTSTART:20260308T100000
END:DAYLIGHT
BEGIN:STANDARD
TZOFFSETFROM:-0700
TZOFFSETTO:-0800
TZNAME:PST
DTSTART:20261101T090000
END:STANDARD
BEGIN:DAYLIGHT
TZOFFSETFROM:-0800
TZOFFSETTO:-0700
TZNAME:PDT
DTSTART:20270314T100000
END:DAYLIGHT
BEGIN:STANDARD
TZOFFSETFROM:-0700
TZOFFSETTO:-0800
TZNAME:PST
DTSTART:20271107T090000
END:STANDARD
END:VTIMEZONE
BEGIN:VEVENT
DTSTART;TZID=America/Los_Angeles:20260926T100000
DTEND;TZID=America/Los_Angeles:20260926T163000
DTSTAMP:20260420T050633
CREATED:20260308T223009Z
LAST-MODIFIED:20260308T223817Z
UID:10000023-1790416800-1790440200@jpaseattle.org
SUMMARY:Fall Workshop with Dr. Ashok Bedi\, Jungian Analyst
DESCRIPTION:Vedanta: an Eastern Path to Individuation and Transcendence\nAn Analytical\, Eastern and Neuroscience Perspective
URL:https://jpaseattle.org/event/fall-workshop-with-dr-ashok-bedi-jungian-analyst/
CATEGORIES:Workshops
ATTACH;FMTTYPE=image/jpeg:https://jpaseattle.org/wp-content/uploads/2026/03/img_3532-scaled.jpg
END:VEVENT
END:VCALENDAR